BEGIN:VCALENDAR
VERSION:2.0
PRODID:-//Department of Human Oncology - ECPv4.6.18//NONSGML v1.0//EN
CALSCALE:GREGORIAN
METHOD:PUBLISH
X-WR-CALNAME:Department of Human Oncology
X-ORIGINAL-URL:https://www.humonc.wisc.edu
X-WR-CALDESC:Events for Department of Human Oncology
BEGIN:VEVENT
DTSTART;TZID=UTC+0:20180530T080000
DTEND;TZID=UTC+0:20180530T090000
DTSTAMP:20180627T222310
CREATED:20170804T191619Z
LAST-MODIFIED:20180504T150458Z
UID:323-1527667200-1527670800@www.humonc.wisc.edu
SUMMARY:UWCCC Grand Rounds
DESCRIPTION:Michael Andreeff\, MD\, PhD\nThe University of Texas MD Anderson Cancer Center \nLeukemia Microenvironment as Therapeutic Target: Successes and Failures \n
URL:https://www.humonc.wisc.edu/event/uwccc-grand-rounds-2017-09-13-2018-05-30/
LOCATION:600 Highland Avenue\, Madison\, WI\, 53792\, United States
GEO:43.0763393;-89.4319156
X-APPLE-STRUCTURED-LOCATION;VALUE=URI;X-ADDRESS=600 Highland Avenue Madison WI 53792 United States;X-APPLE-RADIUS=500;X-TITLE=600 Highland Avenue:geo:-89.4319156,43.0763393
CATEGORIES:UWCCC Grand Rounds
END:VEVENT
BEGIN:VEVENT
DTSTART;TZID=UTC+0:20180530T103000
DTEND;TZID=UTC+0:20180530T103000
DTSTAMP:20180627T222310
CREATED:20180504T190234Z
LAST-MODIFIED:20180529T142818Z
UID:3521-1527676200-1527676200@www.humonc.wisc.edu
SUMMARY:Cancer Biology Seminar
DESCRIPTION:The Cancer Biology Seminar Series is the primary means for the presentation of basic and translational oncology research on the campus of the University of Wisconsin-Madison. Speakers come from across the United States as well as within UW-Madison. The series is co-sponsored by the McArdle Laboratory for Cancer Research and the Department of Human Oncology. Seminars are held on Wednesdays at 10:30-11:30AM in Room 1345 Health Sciences Learning Center (HSLC) – unless otherwise noted. \nPresenter: Andy Minn\, MD\, PhD\nUniversity of Pennsylvania \nTitle: Pattern Recognition Receptor and Interferon Signaling in Cancer \n
URL:https://www.humonc.wisc.edu/event/cancer-biology-seminar/
LOCATION:1111 Highland Avenue\, Madison\, WI\, 53705\, United States
GEO:43.0780742;-89.4316272
X-APPLE-STRUCTURED-LOCATION;VALUE=URI;X-ADDRESS=1111 Highland Avenue Madison WI 53705 United States;X-APPLE-RADIUS=500;X-TITLE=1111 Highland Avenue:geo:-89.4316272,43.0780742
END:VEVENT
BEGIN:VEVENT
DTSTART;TZID=UTC+0:20180613T080000
DTEND;TZID=UTC+0:20180613T090000
DTSTAMP:20180627T222310
CREATED:20180608T202548Z
LAST-MODIFIED:20180608T202548Z
UID:3592-1528876800-1528880400@www.humonc.wisc.edu
SUMMARY:UWCCC Grand Rounds (closed session: open only to UWCCC faculty/staff)
DESCRIPTION:Julie E. Chang\, MD\nUW School of Medicine and Public Health \nStephine Wasielewski\nUW School of Medicine and Public Health \nResearch in Review Workshop \n
URL:https://www.humonc.wisc.edu/event/uwccc-grand-rounds-closed-session-open-only-to-uwccc-faculty-staff/
LOCATION:600 Highland Avenue\, Madison\, WI\, 53792\, United States
GEO:43.0763393;-89.4319156
X-APPLE-STRUCTURED-LOCATION;VALUE=URI;X-ADDRESS=600 Highland Avenue Madison WI 53792 United States;X-APPLE-RADIUS=500;X-TITLE=600 Highland Avenue:geo:-89.4319156,43.0763393
END:VEVENT
BEGIN:VEVENT
DTSTART;TZID=UTC+0:20180614T163000
DTEND;TZID=UTC+0:20180614T173000
DTSTAMP:20180627T222310
CREATED:20170803T203910Z
LAST-MODIFIED:20171009T122029Z
UID:176-1528993800-1528997400@www.humonc.wisc.edu
SUMMARY:HN SPORE Monthly Meeting
DESCRIPTION:Monthly SPORE meeting to review progress of main SPORE Projects 1-4\, announce upcoming events and deadlines\, and discuss meaningful ways to enhance core support to SPORE investigators. \nAttendees: \n\nSPORE Program\, Core and Project Leaders\nPatient advocates\nClinical/research staff\n\nEvery 2nd Thursday from 4:30-5:30 pm. \nIf interested in attending\, please contact Shari Piaskowski. \n
URL:https://www.humonc.wisc.edu/event/hn-spore-monthly-meeting/2018-06-14/
LOCATION:WI
CATEGORIES:SPORE
END:VEVENT
BEGIN:VEVENT
DTSTART;TZID=UTC+0:20180620T080000
DTEND;TZID=UTC+0:20180620T080000
DTSTAMP:20180627T222310
CREATED:20180615T204417Z
LAST-MODIFIED:20180615T204417Z
UID:3598-1529481600-1529481600@www.humonc.wisc.edu
SUMMARY:UWCCC GRAND ROUNDS
DESCRIPTION:Leo I Gordon MD\, FACP\nNorthwestern University Feinberg School of Medicine \nImmune Based Treatment Options in Lymphoma \n
URL:https://www.humonc.wisc.edu/event/uwccc-grand-rounds/
LOCATION:600 Highland Avenue\, Madison\, WI\, 53792\, United States
GEO:43.0763393;-89.4319156
X-APPLE-STRUCTURED-LOCATION;VALUE=URI;X-ADDRESS=600 Highland Avenue Madison WI 53792 United States;X-APPLE-RADIUS=500;X-TITLE=600 Highland Avenue:geo:-89.4319156,43.0763393
CATEGORIES:UWCCC Grand Rounds
END:VEVENT
END:VCALENDAR